BEGIN:VCALENDAR
VERSION:2.0
PRODID:-//eventon.com NONSGML v1.0//EN
CALSCALE:GREGORIAN
METHOD:PUBLISH
BEGIN:VEVENT
UID:69e5e42880d12
DTSTAMP:20260420T083032Z
DTSTART:20250706T050000Z
DTEND:20250706T060000Z
LOCATION:
SUMMARY:13th Academy Introductory Workshop
DESCRIPTION:下北沢で、対面で行われる説明会を、ライブで
 も同時に配信します。参加申し込みはhttps://stanislavskiacad
 emy.com/jpから行ってください。オンラインの視聴につき
 しては無料です。\nhttps://stanislavskiacademy.com/archives/events/
 12th-academy-information-session
URL:https://stanislavskiacademy.com/archives/events/12th-academy-information-session
END:VEVENT
END:VCALENDAR